BEGIN:VCALENDAR
VERSION:2.0
PRODID:-//Auroraterapija - ECPv6.15.11//NONSGML v1.0//EN
CALSCALE:GREGORIAN
METHOD:PUBLISH
X-WR-CALNAME:Auroraterapija
X-ORIGINAL-URL:https://auroraterapija.si
X-WR-CALDESC:Dogodki za Auroraterapija
REFRESH-INTERVAL;VALUE=DURATION:PT1H
X-Robots-Tag:noindex
X-PUBLISHED-TTL:PT1H
BEGIN:VTIMEZONE
TZID:UTC
BEGIN:STANDARD
TZOFFSETFROM:+0000
TZOFFSETTO:+0000
TZNAME:UTC
DTSTART:20240101T000000
END:STANDARD
END:VTIMEZONE
BEGIN:VEVENT
DTSTART;TZID=UTC:20260128T183000
DTEND;TZID=UTC:20260128T193000
DTSTAMP:20260423T152040
CREATED:20250929T185210Z
LAST-MODIFIED:20250929T185210Z
UID:6846-1769625000-1769628600@auroraterapija.si
SUMMARY:Zvočna kopel - Januar
DESCRIPTION:Zvočna kopel je edinstvena izkušnja\, kjer tezvoki in vibracije instrumentov\, kot so tibetanske posode\, handpan in zvončki\, nežno objamejo ter popeljejo v stanje globoke sprostitve. Gre za meditativno prakso\, pri kateri zvok deluje na telo in um ter pomaga sprostiti napetosti\, zmanjšati stres in izboljšati notranje ravnovesje. Koristi vključujejo izboljšanje spanja\, zmanjšanje tesnobe\, boljšo prekrvavitev in krepitev imunskega sistema. Zvočna kopel je tudi čudovito orodje za meditacijo in poglobitev stika s samim seboj.\n​Zvoki in vibracije zvočne kopeli vplivajo na energijske centre (čakre)\, izboljšujejo pretok energije ter podpirajo regeneracijo in duševni mir.
URL:https://auroraterapija.si/dogodek/zvocna-kopel-januar/
LOCATION:Triniti Joga Studio\, Podutiška 55\, Ljubljana\, 1000\, Slovenia
ATTACH;FMTTYPE=image/jpeg:https://auroraterapija.si/wp-content/uploads/2023/09/VMZ_2822-scaled.jpg
END:VEVENT
BEGIN:VEVENT
DTSTART;TZID=UTC:20251210T183000
DTEND;TZID=UTC:20251210T193000
DTSTAMP:20260423T152040
CREATED:20250929T185052Z
LAST-MODIFIED:20250929T185412Z
UID:6844-1765391400-1765395000@auroraterapija.si
SUMMARY:Zvočna kopel - December
DESCRIPTION:Zvočna kopel je edinstvena izkušnja\, kjer tezvoki in vibracije instrumentov\, kot so tibetanske posode\, handpan in zvončki\, nežno objamejo ter popeljejo v stanje globoke sprostitve. Gre za meditativno prakso\, pri kateri zvok deluje na telo in um ter pomaga sprostiti napetosti\, zmanjšati stres in izboljšati notranje ravnovesje. Koristi vključujejo izboljšanje spanja\, zmanjšanje tesnobe\, boljšo prekrvavitev in krepitev imunskega sistema. Zvočna kopel je tudi čudovito orodje za meditacijo in poglobitev stika s samim seboj.\n​Zvoki in vibracije zvočne kopeli vplivajo na energijske centre (čakre)\, izboljšujejo pretok energije ter podpirajo regeneracijo in duševni mir.
URL:https://auroraterapija.si/dogodek/zvocna-kopel-december/
LOCATION:Triniti Joga Studio\, Podutiška 55\, Ljubljana\, 1000\, Slovenia
ATTACH;FMTTYPE=image/jpeg:https://auroraterapija.si/wp-content/uploads/2023/04/VMZ_2275-scaled-e1686047038588.jpg
END:VEVENT
BEGIN:VEVENT
DTSTART;TZID=UTC:20251126T183000
DTEND;TZID=UTC:20251126T193000
DTSTAMP:20260423T152040
CREATED:20250929T184927Z
LAST-MODIFIED:20250929T184927Z
UID:6842-1764181800-1764185400@auroraterapija.si
SUMMARY:Zvočna kopel - November
DESCRIPTION:Zvočna kopel je edinstvena izkušnja\, kjer tezvoki in vibracije instrumentov\, kot so tibetanske posode\, handpan in zvončki\, nežno objamejo ter popeljejo v stanje globoke sprostitve. Gre za meditativno prakso\, pri kateri zvok deluje na telo in um ter pomaga sprostiti napetosti\, zmanjšati stres in izboljšati notranje ravnovesje. Koristi vključujejo izboljšanje spanja\, zmanjšanje tesnobe\, boljšo prekrvavitev in krepitev imunskega sistema. Zvočna kopel je tudi čudovito orodje za meditacijo in poglobitev stika s samim seboj.\n​Zvoki in vibracije zvočne kopeli vplivajo na energijske centre (čakre)\, izboljšujejo pretok energije ter podpirajo regeneracijo in duševni mir.
URL:https://auroraterapija.si/dogodek/zvocna-kopel-november/
LOCATION:Triniti Joga Studio\, Podutiška 55\, Ljubljana\, 1000\, Slovenia
CATEGORIES:Zvočna kopel
ATTACH;FMTTYPE=image/jpeg:https://auroraterapija.si/wp-content/uploads/2023/06/VMZ_2903-03-scaled.jpeg
END:VEVENT
BEGIN:VEVENT
DTSTART;VALUE=DATE:20251110
DTEND;VALUE=DATE:20251111
DTSTAMP:20260423T152040
CREATED:20250929T191208Z
LAST-MODIFIED:20250929T191309Z
UID:6857-1762732800-1762819199@auroraterapija.si
SUMMARY:Cupping masaža in terapija hrbtnih mišic
DESCRIPTION:Delavnica v okviru Mentorstva skozi dotik. Prijavite se na delavnico v živo: info@auroraterapija.si
URL:https://auroraterapija.si/dogodek/cupping-masaza-in-terapija-hrbtnih-misic/
LOCATION:Blackbox Center\, Dunajska cesta 5\, Ljubljana\, 1000\, Slovenia
CATEGORIES:Mentorstvo
ATTACH;FMTTYPE=image/jpeg:https://auroraterapija.si/wp-content/uploads/2024/12/ETSlovenia-98-scaled.jpg
END:VEVENT
BEGIN:VEVENT
DTSTART;VALUE=DATE:20251103
DTEND;VALUE=DATE:20251104
DTSTAMP:20260423T152040
CREATED:20250929T191037Z
LAST-MODIFIED:20250929T191037Z
UID:6855-1762128000-1762214399@auroraterapija.si
SUMMARY:Lov na trigger točke na hrbtu
DESCRIPTION:Delavnica v okviru Mentorstva skozi dotik. Prijavite se na delavnico v živo: info@auroraterapija.si
URL:https://auroraterapija.si/dogodek/lov-na-trigger-tocke-na-hrbtu/
LOCATION:Blackbox Center\, Dunajska cesta 5\, Ljubljana\, 1000\, Slovenia
CATEGORIES:Mentorstvo
ATTACH;FMTTYPE=image/jpeg:https://auroraterapija.si/wp-content/uploads/2025/09/Screenshot_20250602_184946425_edit_83272506074638-scaled.jpg
END:VEVENT
BEGIN:VEVENT
DTSTART;TZID=UTC:20251022T183000
DTEND;TZID=UTC:20251022T193000
DTSTAMP:20260423T152040
CREATED:20250929T183232Z
LAST-MODIFIED:20250929T184628Z
UID:6834-1761157800-1761161400@auroraterapija.si
SUMMARY:Zvočna kopel - Oktober
DESCRIPTION:Zvočna kopel je edinstvena izkušnja\, kjer te zvoki in vibracije instrumentov\, kot so tibetanske posode\, handpan in zvončki\, nežno objamejo ter popeljejo v stanje globoke sprostitve. Gre za meditativno prakso\, pri kateri zvok deluje na telo in um ter pomaga sprostiti napetosti\, zmanjšati stres in izboljšati notranje ravnovesje. Koristi vključujejo izboljšanje spanja\, zmanjšanje tesnobe\, boljšo prekrvavitev in krepitev imunskega sistema. Zvočna kopel je tudi čudovito orodje za meditacijo in poglobitev stika s samim seboj.\n​Zvoki in vibracije zvočne kopeli vplivajo na energijske centre (čakre)\, izboljšujejo pretok energije ter podpirajo regeneracijo in duševni mir.
URL:https://auroraterapija.si/dogodek/zvocne-kopeli/
LOCATION:Triniti Joga Studio\, Podutiška 55\, Ljubljana\, 1000\, Slovenia
CATEGORIES:Zvočna kopel
ATTACH;FMTTYPE=image/webp:https://auroraterapija.si/wp-content/uploads/2023/06/slika5.webp
END:VEVENT
BEGIN:VEVENT
DTSTART;VALUE=DATE:20251021
DTEND;VALUE=DATE:20251022
DTSTAMP:20260423T152040
CREATED:20250929T190857Z
LAST-MODIFIED:20250929T191352Z
UID:6853-1761004800-1761091199@auroraterapija.si
SUMMARY:Terapevtska masaža pri išiasu in ledvenih bolečinah
DESCRIPTION:Delavnica v okviru Mentorstva skozi dotik. Prijavite se na delavnico v živo: info@auroraterapija.si
URL:https://auroraterapija.si/dogodek/terapevtska-masaza-pri-isiasu-in-ledvenih-bolecinah/
LOCATION:Blackbox Center\, Dunajska cesta 5\, Ljubljana\, 1000\, Slovenia
CATEGORIES:Mentorstvo
ATTACH;FMTTYPE=image/jpeg:https://auroraterapija.si/wp-content/uploads/2025/09/zen-akademija.jpg
END:VEVENT
BEGIN:VEVENT
DTSTART;VALUE=DATE:20251020
DTEND;VALUE=DATE:20251021
DTSTAMP:20260423T152040
CREATED:20250929T190416Z
LAST-MODIFIED:20250929T191606Z
UID:6848-1760918400-1761004799@auroraterapija.si
SUMMARY:Napredne tehnike športne masaže
DESCRIPTION:Delavnica v okviru Mentorstva skozi dotik. Prijavite se na delavnico v živo: info@auroraterapija.si
URL:https://auroraterapija.si/dogodek/napredne-tehnike-sportne-masaze/
LOCATION:Blackbox Center\, Dunajska cesta 5\, Ljubljana\, 1000\, Slovenia
CATEGORIES:Mentorstvo
ATTACH;FMTTYPE=image/jpeg:https://auroraterapija.si/wp-content/uploads/2023/06/20230123_092819-scaled.jpg
END:VEVENT
END:VCALENDAR